BEGIN:VCALENDAR
VERSION:2.0
PRODID:-//Rep Friendly - ECPv6.15.20//NONSGML v1.0//EN
CALSCALE:GREGORIAN
METHOD:PUBLISH
X-WR-CALNAME:Rep Friendly
X-ORIGINAL-URL:https://repfriendly.com
X-WR-CALDESC:Events for Rep Friendly
REFRESH-INTERVAL;VALUE=DURATION:PT1H
X-Robots-Tag:noindex
X-PUBLISHED-TTL:PT1H
BEGIN:VTIMEZONE
TZID:UTC
BEGIN:STANDARD
TZOFFSETFROM:+0000
TZOFFSETTO:+0000
TZNAME:UTC
DTSTART:20220101T000000
END:STANDARD
END:VTIMEZONE
BEGIN:VEVENT
DTSTART;VALUE=DATE:20231024
DTEND;VALUE=DATE:20231028
DTSTAMP:20260420T004245
CREATED:20230316T151408Z
LAST-MODIFIED:20230425T135405Z
UID:10000055-1698105600-1698451199@repfriendly.com
SUMMARY:KidsWorld - Dallas\, TX
DESCRIPTION:
URL:https://repfriendly.com/event/kidsworld-3/
CATEGORIES:Toy Show,Trade Show
END:VEVENT
BEGIN:VEVENT
DTSTART;VALUE=DATE:20231116
DTEND;VALUE=DATE:20231118
DTSTAMP:20260420T004245
CREATED:20230424T222057Z
LAST-MODIFIED:20230425T162617Z
UID:10000098-1700092800-1700265599@repfriendly.com
SUMMARY:KOA Convention and Expo - Las Vegas\, NV
DESCRIPTION:
URL:https://repfriendly.com/event/koa-convention-and-expo-las-vegas-nv/
CATEGORIES:Convention,Souvenir Show,Trade Show
END:VEVENT
BEGIN:VEVENT
DTSTART;VALUE=DATE:20240110
DTEND;VALUE=DATE:20240117
DTSTAMP:20260420T004245
CREATED:20230316T174355Z
LAST-MODIFIED:20230425T135344Z
UID:10000068-1704844800-1705449599@repfriendly.com
SUMMARY:Dallas Total Home & Gift Market - Dallas\, TX
DESCRIPTION:
URL:https://repfriendly.com/event/dallas-total-home-gift-market-4/
CATEGORIES:Gift Show,Home Show,Trade Show
END:VEVENT
BEGIN:VEVENT
DTSTART;VALUE=DATE:20240117
DTEND;VALUE=DATE:20240120
DTSTAMP:20260420T004245
CREATED:20230329T125726Z
LAST-MODIFIED:20230425T164501Z
UID:10000078-1705449600-1705708799@repfriendly.com
SUMMARY:Alaska Wholesale Gift Show – Anchorage\, AK
DESCRIPTION:
URL:https://repfriendly.com/event/alaska-wholesale-gift-show/
CATEGORIES:Apparel Show,Gift Show,Souvenir Show,Trade Show
END:VEVENT
BEGIN:VEVENT
DTSTART;VALUE=DATE:20240127
DTEND;VALUE=DATE:20240130
DTSTAMP:20260420T004245
CREATED:20230316T174516Z
LAST-MODIFIED:20230424T164554Z
UID:10000069-1706313600-1706572799@repfriendly.com
SUMMARY:Biloxi Mississippi Wholesale Gift Show - Biloxi\, MS
DESCRIPTION:
URL:https://repfriendly.com/event/biloxi-mississippi-wholesale-gift-show-2/
CATEGORIES:Gift Show,Home Show,Souvenir Show,Trade Show
END:VEVENT
BEGIN:VEVENT
DTSTART;VALUE=DATE:20240204
DTEND;VALUE=DATE:20240207
DTSTAMP:20260420T004245
CREATED:20230621T170541Z
LAST-MODIFIED:20230621T170710Z
UID:10000124-1707004800-1707263999@repfriendly.com
SUMMARY:Philadelphia Gift Show – Oaks\, PA
DESCRIPTION:
URL:https://repfriendly.com/event/philadelphia-gift-show-oaks-pa/
CATEGORIES:Apparel Show,Gift Show,Home Show,Souvenir Show,Toy Show,Trade Show
END:VEVENT
BEGIN:VEVENT
DTSTART;VALUE=DATE:20240204
DTEND;VALUE=DATE:20240208
DTSTAMP:20260420T004245
CREATED:20230316T175456Z
LAST-MODIFIED:20230425T163110Z
UID:10000071-1707004800-1707350399@repfriendly.com
SUMMARY:NY Now - New York\, NY
DESCRIPTION:
URL:https://repfriendly.com/event/ny-now-2/
CATEGORIES:Apparel Show,Gift Show,Home Show,Trade Show
END:VEVENT
BEGIN:VEVENT
DTSTART;VALUE=DATE:20240226
DTEND;VALUE=DATE:20240229
DTSTAMP:20260420T004245
CREATED:20230316T175715Z
LAST-MODIFIED:20230621T173809Z
UID:10000072-1708905600-1709164799@repfriendly.com
SUMMARY:Upstate New York Gift Expo - Verona\, NY
DESCRIPTION:
URL:https://repfriendly.com/event/philadelphia-gift-show/
CATEGORIES:Apparel Show,Gift Show,Home Show,Souvenir Show,Trade Show
END:VEVENT
BEGIN:VEVENT
DTSTART;VALUE=DATE:20260226
DTEND;VALUE=DATE:20260303
DTSTAMP:20260420T004245
CREATED:20230426T172950Z
LAST-MODIFIED:20260223T144921Z
UID:10000105-1772064000-1772495999@repfriendly.com
SUMMARY:CAMEX – Phoenix\, AZ
DESCRIPTION:
URL:https://repfriendly.com/event/camex-expo-phoenix-az/
CATEGORIES:Convention,Forum,Gift Show,Trade Show
END:VEVENT
BEGIN:VEVENT
DTSTART;VALUE=DATE:20260303
DTEND;VALUE=DATE:20260306
DTSTAMP:20260420T004245
CREATED:20230316T175855Z
LAST-MODIFIED:20260222T221604Z
UID:10000074-1772496000-1772755199@repfriendly.com
SUMMARY:Atlanta Spring Gift & Home Market - Atlanta\, GA
DESCRIPTION:
URL:https://repfriendly.com/event/atlanta-spring-gift-home-market-atlanta-ga/
CATEGORIES:Gift Show,Holiday,Home Show,Souvenir Show,Toy Show,Trade Show
END:VEVENT
BEGIN:VEVENT
DTSTART;VALUE=DATE:20260303
DTEND;VALUE=DATE:20260306
DTSTAMP:20260420T004245
CREATED:20230426T172807Z
LAST-MODIFIED:20260223T154021Z
UID:10000104-1772496000-1772755199@repfriendly.com
SUMMARY:Great Lakes Gift Show – Kalamazoo\, MI
DESCRIPTION:
URL:https://repfriendly.com/event/https-greatlakesgiftshow-com/
CATEGORIES:Apparel Show,Gift Show,Souvenir Show,Toy Show,Trade Show
END:VEVENT
BEGIN:VEVENT
DTSTART;VALUE=DATE:20260308
DTEND;VALUE=DATE:20260310
DTSTAMP:20260420T004245
CREATED:20260223T182159Z
LAST-MODIFIED:20260223T182159Z
UID:10000140-1772928000-1773100799@repfriendly.com
SUMMARY:Cape Cod & Islands Gift Show - Falmouth\, MA
DESCRIPTION:
URL:https://repfriendly.com/event/cape-cod-islands-gift-show-falmouth-ma/
CATEGORIES:Gift Show,Souvenir Show,Toy Show,Trade Show
END:VEVENT
BEGIN:VEVENT
DTSTART;VALUE=DATE:20260308
DTEND;VALUE=DATE:20260311
DTSTAMP:20260420T004245
CREATED:20260224T155919Z
LAST-MODIFIED:20260224T155919Z
UID:10000154-1772928000-1773187199@repfriendly.com
SUMMARY:Gift + Home Market - Halifax\, NS\, CAN
DESCRIPTION:
URL:https://repfriendly.com/event/gift-home-market-halifax-ns-can/
CATEGORIES:Apparel Show,Gift Show,Home Show,Souvenir Show,Toy Show,Trade Show
END:VEVENT
BEGIN:VEVENT
DTSTART;VALUE=DATE:20260309
DTEND;VALUE=DATE:20260312
DTSTAMP:20260420T004245
CREATED:20260223T180606Z
LAST-MODIFIED:20260223T180606Z
UID:10000139-1773014400-1773273599@repfriendly.com
SUMMARY:ASI Show - Fort Worth\, TX
DESCRIPTION:
URL:https://repfriendly.com/event/asi-show-fort-worth-tx/
CATEGORIES:Gift Show,Souvenir Show,Trade Show
END:VEVENT
BEGIN:VEVENT
DTSTART;VALUE=DATE:20260309
DTEND;VALUE=DATE:20260312
DTSTAMP:20260420T004245
CREATED:20260223T185327Z
LAST-MODIFIED:20260223T185327Z
UID:10000142-1773014400-1773273599@repfriendly.com
SUMMARY:LA Kids Market – Los Angeles\, CA
DESCRIPTION:
URL:https://repfriendly.com/event/la-kids-market-los-angeles-ca/
CATEGORIES:Apparel Show,Gift Show,Toy Show,Trade Show
END:VEVENT
BEGIN:VEVENT
DTSTART;VALUE=DATE:20260310
DTEND;VALUE=DATE:20260313
DTSTAMP:20260420T004245
CREATED:20230622T181243Z
LAST-MODIFIED:20260222T223114Z
UID:10000134-1773100800-1773359999@repfriendly.com
SUMMARY:The Inspired Home Show - Chicago\, IL
DESCRIPTION:
URL:https://repfriendly.com/event/the-inspired-home-show-chicago-il/
CATEGORIES:Gift Show,Home Show,Trade Show
END:VEVENT
BEGIN:VEVENT
DTSTART;VALUE=DATE:20260317
DTEND;VALUE=DATE:20260320
DTSTAMP:20260420T004245
CREATED:20230209T104828Z
LAST-MODIFIED:20260223T184011Z
UID:10000006-1773705600-1773964799@repfriendly.com
SUMMARY:ASD Market Week - Las Vegas\, NV
DESCRIPTION:
URL:https://repfriendly.com/event/asd-market-week/
CATEGORIES:Convention,Gift Show,Souvenir Show,Toy Show,Trade Show
END:VEVENT
BEGIN:VEVENT
DTSTART;VALUE=DATE:20260322
DTEND;VALUE=DATE:20260325
DTSTAMP:20260420T004245
CREATED:20260223T182906Z
LAST-MODIFIED:20260223T182906Z
UID:10000141-1774137600-1774396799@repfriendly.com
SUMMARY:Wisconsin Gift Show - West Bend\, WI
DESCRIPTION:
URL:https://repfriendly.com/event/wisconsin-gift-show-west-bend-wi/
CATEGORIES:Apparel Show,Gift Show,Souvenir Show,Toy Show,Trade Show
END:VEVENT
BEGIN:VEVENT
DTSTART;VALUE=DATE:20260324
DTEND;VALUE=DATE:20260328
DTSTAMP:20260420T004245
CREATED:20230621T164216Z
LAST-MODIFIED:20260223T151230Z
UID:10000119-1774310400-1774655999@repfriendly.com
SUMMARY:Dallas Apparel & Accessories Market – Dallas\, TX
DESCRIPTION:
URL:https://repfriendly.com/event/dallas-apparel-accessories-marke-t-dallas-tx/
CATEGORIES:Apparel Show,Gift Show,Home Show,Toy Show,Trade Show
END:VEVENT
BEGIN:VEVENT
DTSTART;VALUE=DATE:20260325
DTEND;VALUE=DATE:20260328
DTSTAMP:20260420T004245
CREATED:20230621T171308Z
LAST-MODIFIED:20260222T222843Z
UID:10000126-1774396800-1774655999@repfriendly.com
SUMMARY:Global Pet Expo – Orlando\, FL
DESCRIPTION:
URL:https://repfriendly.com/event/global-pet-expo-orlando-fl/
CATEGORIES:Gift Show,Toy Show,Trade Show
END:VEVENT
BEGIN:VEVENT
DTSTART;VALUE=DATE:20260329
DTEND;VALUE=DATE:20260401
DTSTAMP:20260420T004245
CREATED:20260227T023052Z
LAST-MODIFIED:20260227T023052Z
UID:10000161-1774742400-1775001599@repfriendly.com
SUMMARY:Vermont / New Hampshire Gift Show – West Lebanon\, NH
DESCRIPTION:
URL:https://repfriendly.com/event/vermont-new-hampshire-gift-show-west-lebanon-nh/
CATEGORIES:Gift Show,Souvenir Show,Trade Show
END:VEVENT
BEGIN:VEVENT
DTSTART;VALUE=DATE:20260412
DTEND;VALUE=DATE:20260415
DTSTAMP:20260420T004245
CREATED:20230621T172027Z
LAST-MODIFIED:20260223T173157Z
UID:10000128-1775952000-1776211199@repfriendly.com
SUMMARY:Northern Michigan Gift Show – Gaylord\, MI
DESCRIPTION:
URL:https://repfriendly.com/event/northern-michigan-gift-show-gaylord-mi/
CATEGORIES:Apparel Show,Gift Show,Home Show,Souvenir Show,Toy Show,Trade Show
END:VEVENT
BEGIN:VEVENT
DTSTART;VALUE=DATE:20260412
DTEND;VALUE=DATE:20260415
DTSTAMP:20260420T004245
CREATED:20260223T172732Z
LAST-MODIFIED:20260223T172915Z
UID:10000138-1775952000-1776211199@repfriendly.com
SUMMARY:Non-Foods Marketing Spring Expo – Las Vegas\, NV
DESCRIPTION:
URL:https://repfriendly.com/event/non-foods-marketing-spring-expo-las-vegas-nv/
CATEGORIES:Gift Show,Toy Show,Trade Show
END:VEVENT
BEGIN:VEVENT
DTSTART;VALUE=DATE:20260412
DTEND;VALUE=DATE:20260416
DTSTAMP:20260420T004245
CREATED:20230316T074605Z
LAST-MODIFIED:20260223T194422Z
UID:10000017-1775952000-1776297599@repfriendly.com
SUMMARY:Gift\, Home\, Apparel\, & Accessory Show – Minnetonka\, MN
DESCRIPTION:
URL:https://repfriendly.com/event/minneapolismart-gift-home-apparel-accessory-show/
CATEGORIES:Gift Show,Home Show,Trade Show
END:VEVENT
BEGIN:VEVENT
DTSTART;VALUE=DATE:20260412
DTEND;VALUE=DATE:20260417
DTSTAMP:20260420T004245
CREATED:20230621T171746Z
LAST-MODIFIED:20260222T222641Z
UID:10000127-1775952000-1776383999@repfriendly.com
SUMMARY:Gaylord Gift Show – Gaylord\, MI
DESCRIPTION:
URL:https://repfriendly.com/event/gaylord-gift-gourmet-souvenir-show-gaylord-mi/
CATEGORIES:Apparel Show,Gift Show,Home Show,Souvenir Show,Trade Show
END:VEVENT
BEGIN:VEVENT
DTSTART;VALUE=DATE:20260414
DTEND;VALUE=DATE:20260417
DTSTAMP:20260420T004245
CREATED:20260224T160228Z
LAST-MODIFIED:20260224T160228Z
UID:10000155-1776124800-1776383999@repfriendly.com
SUMMARY:The Reunion - Las Vegas\, NV
DESCRIPTION:
URL:https://repfriendly.com/event/the-reunion-las-vegas-nv/
CATEGORIES:Apparel Show,Convention,Gift Show,Souvenir Show,Toy Show,Trade Show
END:VEVENT
BEGIN:VEVENT
DTSTART;VALUE=DATE:20260414
DTEND;VALUE=DATE:20260418
DTSTAMP:20260420T004245
CREATED:20260321T112156Z
LAST-MODIFIED:20260321T112156Z
UID:10000168-1776124800-1776470399@repfriendly.com
SUMMARY:New York Tabletop Show – New York\, NY
DESCRIPTION:
URL:https://repfriendly.com/event/new-york-tabletop-show-new-york-ny/
CATEGORIES:Gift Show,Home Show,Trade Show
END:VEVENT
BEGIN:VEVENT
DTSTART;VALUE=DATE:20260419
DTEND;VALUE=DATE:20260422
DTSTAMP:20260420T004245
CREATED:20260321T111627Z
LAST-MODIFIED:20260321T111627Z
UID:10000166-1776556800-1776815999@repfriendly.com
SUMMARY:Trendz – Palm Beach\, FL
DESCRIPTION:
URL:https://repfriendly.com/event/trendz-palm-beach-fl/
CATEGORIES:Apparel Show,Gift Show,Souvenir Show,Toy Show,Trade Show
END:VEVENT
BEGIN:VEVENT
DTSTART;VALUE=DATE:20260425
DTEND;VALUE=DATE:20260430
DTSTAMP:20260420T004245
CREATED:20230329T153807Z
LAST-MODIFIED:20260223T173651Z
UID:10000092-1777075200-1777507199@repfriendly.com
SUMMARY:High Point Market – High Point\, NC
DESCRIPTION:
URL:https://repfriendly.com/event/high-point-market-a/
CATEGORIES:Home Show,Trade Show
END:VEVENT
BEGIN:VEVENT
DTSTART;VALUE=DATE:20260506
DTEND;VALUE=DATE:20260510
DTSTAMP:20260420T004245
CREATED:20260224T161507Z
LAST-MODIFIED:20260224T161816Z
UID:10000156-1778025600-1778371199@repfriendly.com
SUMMARY:Champs Trade Show - Las Vegas\, NV
DESCRIPTION:
URL:https://repfriendly.com/event/champs-trade-show-las-vegas-nv-2/
CATEGORIES:Convention,Forum,Toy Show,Trade Show
END:VEVENT
END:VCALENDAR