BEGIN:VCALENDAR
VERSION:2.0
PRODID:-//Rep Friendly - ECPv6.15.20//NONSGML v1.0//EN
CALSCALE:GREGORIAN
METHOD:PUBLISH
X-WR-CALNAME:Rep Friendly
X-ORIGINAL-URL:https://repfriendly.com
X-WR-CALDESC:Events for Rep Friendly
REFRESH-INTERVAL;VALUE=DURATION:PT1H
X-Robots-Tag:noindex
X-PUBLISHED-TTL:PT1H
BEGIN:VTIMEZONE
TZID:UTC
BEGIN:STANDARD
TZOFFSETFROM:+0000
TZOFFSETTO:+0000
TZNAME:UTC
DTSTART:20220101T000000
END:STANDARD
END:VTIMEZONE
BEGIN:VEVENT
DTSTART;VALUE=DATE:20230927
DTEND;VALUE=DATE:20230930
DTSTAMP:20260419T191547
CREATED:20230316T144149Z
LAST-MODIFIED:20230425T141240Z
UID:10000048-1695772800-1696031999@repfriendly.com
SUMMARY:GHTA Conference - San Antonio\, TX
DESCRIPTION:
URL:https://repfriendly.com/event/ghta-conference/
CATEGORIES:Convention,Gift Show,Home Show,Trade Show
END:VEVENT
BEGIN:VEVENT
DTSTART;VALUE=DATE:20230927
DTEND;VALUE=DATE:20230929
DTSTAMP:20260419T191547
CREATED:20230628T181056Z
LAST-MODIFIED:20230628T181056Z
UID:10000137-1695772800-1695945599@repfriendly.com
SUMMARY:Champs Trade Show – Denver\, CO
DESCRIPTION:
URL:https://repfriendly.com/event/champs-trade-show-denver-co/
CATEGORIES:Convention,Forum,Trade Show
END:VEVENT
END:VCALENDAR