BEGIN:VCALENDAR
VERSION:2.0
PRODID:-//Rep Friendly - ECPv6.15.20//NONSGML v1.0//EN
CALSCALE:GREGORIAN
METHOD:PUBLISH
X-ORIGINAL-URL:https://repfriendly.com
X-WR-CALDESC:Events for Rep Friendly
REFRESH-INTERVAL;VALUE=DURATION:PT1H
X-Robots-Tag:noindex
X-PUBLISHED-TTL:PT1H
BEGIN:VTIMEZONE
TZID:UTC
BEGIN:STANDARD
TZOFFSETFROM:+0000
TZOFFSETTO:+0000
TZNAME:UTC
DTSTART:20220101T000000
END:STANDARD
END:VTIMEZONE
BEGIN:VEVENT
DTSTART;VALUE=DATE:20230820
DTEND;VALUE=DATE:20230824
DTSTAMP:20260419T224648
CREATED:20230316T141350Z
LAST-MODIFIED:20230425T140256Z
UID:10000041-1692489600-1692835199@repfriendly.com
SUMMARY:ASD Market Week - Las Vegas\, NV
DESCRIPTION:
URL:https://repfriendly.com/event/asd-market-week-2/
CATEGORIES:Convention,Forum,Souvenir Show,Trade Show
END:VEVENT
END:VCALENDAR