BEGIN:VCALENDAR
VERSION:2.0
PRODID:-//Rep Friendly - ECPv6.15.20//NONSGML v1.0//EN
CALSCALE:GREGORIAN
METHOD:PUBLISH
X-ORIGINAL-URL:https://repfriendly.com
X-WR-CALDESC:Events for Rep Friendly
REFRESH-INTERVAL;VALUE=DURATION:PT1H
X-Robots-Tag:noindex
X-PUBLISHED-TTL:PT1H
BEGIN:VTIMEZONE
TZID:UTC
BEGIN:STANDARD
TZOFFSETFROM:+0000
TZOFFSETTO:+0000
TZNAME:UTC
DTSTART:20220101T000000
END:STANDARD
END:VTIMEZONE
BEGIN:VEVENT
DTSTART;VALUE=DATE:20230801
DTEND;VALUE=DATE:20230806
DTSTAMP:20260419T224606
CREATED:20230424T221218Z
LAST-MODIFIED:20230425T134354Z
UID:10000034-1690848000-1691279999@repfriendly.com
SUMMARY:Atlanta Apparel Market – Atlanta\, GA
DESCRIPTION:
URL:https://repfriendly.com/event/atlanta-apparel-market-2-2/
CATEGORIES:Apparel Show,Trade Show
END:VEVENT
BEGIN:VEVENT
DTSTART;VALUE=DATE:20230805
DTEND;VALUE=DATE:20230808
DTSTAMP:20260419T224606
CREATED:20230316T131455Z
LAST-MODIFIED:20230424T164655Z
UID:10000035-1691193600-1691452799@repfriendly.com
SUMMARY:Biloxi Mississippi Wholesale Gift Show - Biloxi\, MS
DESCRIPTION:
URL:https://repfriendly.com/event/biloxi-mississippi-wholesale-gift-show/
CATEGORIES:Gift Show,Home Show,Souvenir Show,Trade Show
END:VEVENT
END:VCALENDAR