BEGIN:VCALENDAR
VERSION:2.0
PRODID:-//Rep Friendly - ECPv6.15.20//NONSGML v1.0//EN
CALSCALE:GREGORIAN
METHOD:PUBLISH
X-ORIGINAL-URL:https://repfriendly.com
X-WR-CALDESC:Events for Rep Friendly
REFRESH-INTERVAL;VALUE=DURATION:PT1H
X-Robots-Tag:noindex
X-PUBLISHED-TTL:PT1H
BEGIN:VTIMEZONE
TZID:UTC
BEGIN:STANDARD
TZOFFSETFROM:+0000
TZOFFSETTO:+0000
TZNAME:UTC
DTSTART:20220101T000000
END:STANDARD
END:VTIMEZONE
BEGIN:VEVENT
DTSTART;VALUE=DATE:20230730
DTEND;VALUE=DATE:20230731
DTSTAMP:20260420T002155
CREATED:20230424T162515Z
LAST-MODIFIED:20230425T145108Z
UID:10000087-1690675200-1690761599@repfriendly.com
SUMMARY:GSMA Open Mic Night – Las Vegas\, NV
DESCRIPTION:
URL:https://repfriendly.com/event/gsma-open-mic-night-las-vegas-nv/
CATEGORIES:Convention,Gift Show,Home Show,Trade Show
END:VEVENT
BEGIN:VEVENT
DTSTART;VALUE=DATE:20230730
DTEND;VALUE=DATE:20230804
DTSTAMP:20260420T002155
CREATED:20230316T105216Z
LAST-MODIFIED:20230425T140330Z
UID:10000076-1690675200-1691107199@repfriendly.com
SUMMARY:Las Vegas Gift & Home - Las Vegas\, NV
DESCRIPTION:
URL:https://repfriendly.com/event/las-vegas-gift-home/
CATEGORIES:Gift Show,Home Show,Trade Show
END:VEVENT
END:VCALENDAR