BEGIN:VCALENDAR
VERSION:2.0
PRODID:-//Rep Friendly - ECPv6.15.20//NONSGML v1.0//EN
CALSCALE:GREGORIAN
METHOD:PUBLISH
X-WR-CALNAME:Rep Friendly
X-ORIGINAL-URL:https://repfriendly.com
X-WR-CALDESC:Events for Rep Friendly
REFRESH-INTERVAL;VALUE=DURATION:PT1H
X-Robots-Tag:noindex
X-PUBLISHED-TTL:PT1H
BEGIN:VTIMEZONE
TZID:UTC
BEGIN:STANDARD
TZOFFSETFROM:+0000
TZOFFSETTO:+0000
TZNAME:UTC
DTSTART:20220101T000000
END:STANDARD
END:VTIMEZONE
BEGIN:VEVENT
DTSTART;VALUE=DATE:20230619
DTEND;VALUE=DATE:20230622
DTSTAMP:20260420T020557
CREATED:20230316T092600Z
LAST-MODIFIED:20230425T135059Z
UID:10000028-1687132800-1687391999@repfriendly.com
SUMMARY:Outdoor Retailer Show - Salt Lake City\, UT
DESCRIPTION:
URL:https://repfriendly.com/event/outdoor-retailer-show/
CATEGORIES:Souvenir Show,Trade Show
END:VEVENT
BEGIN:VEVENT
DTSTART;VALUE=DATE:20230621
DTEND;VALUE=DATE:20230622
DTSTAMP:20260420T020557
CREATED:20230329T145438Z
LAST-MODIFIED:20230425T135129Z
UID:10000091-1687305600-1687391999@repfriendly.com
SUMMARY:72nd Annual Retail Excellence Awards – Dallas\, TX
DESCRIPTION:
URL:https://repfriendly.com/event/72nd-annual-retail-excellence-award/
CATEGORIES:Convention,Forum,Trade Show
END:VEVENT
BEGIN:VEVENT
DTSTART;VALUE=DATE:20230621
DTEND;VALUE=DATE:20230628
DTSTAMP:20260420T020557
CREATED:20230316T092835Z
LAST-MODIFIED:20230425T135654Z
UID:10000029-1687305600-1687910399@repfriendly.com
SUMMARY:Dallas Total Home & Gift Market - Dallas\, TX
DESCRIPTION:
URL:https://repfriendly.com/event/dallas-total-home-gift-market/
CATEGORIES:Gift Show,Home Show,Trade Show
END:VEVENT
END:VCALENDAR