BEGIN:VCALENDAR
VERSION:2.0
PRODID:-//Rep Friendly - ECPv6.15.20//NONSGML v1.0//EN
CALSCALE:GREGORIAN
METHOD:PUBLISH
X-ORIGINAL-URL:https://repfriendly.com
X-WR-CALDESC:Events for Rep Friendly
REFRESH-INTERVAL;VALUE=DURATION:PT1H
X-Robots-Tag:noindex
X-PUBLISHED-TTL:PT1H
BEGIN:VTIMEZONE
TZID:UTC
BEGIN:STANDARD
TZOFFSETFROM:+0000
TZOFFSETTO:+0000
TZNAME:UTC
DTSTART:20220101T000000
END:STANDARD
END:VTIMEZONE
BEGIN:VEVENT
DTSTART;VALUE=DATE:20230611
DTEND;VALUE=DATE:20230618
DTSTAMP:20260420T020621
CREATED:20230316T090753Z
LAST-MODIFIED:20230425T135957Z
UID:10000024-1686441600-1687046399@repfriendly.com
SUMMARY:Atlanta Market - Atlanta\, GA
DESCRIPTION:
URL:https://repfriendly.com/event/atlanta-market/
CATEGORIES:Gift Show,Home Show,Trade Show
END:VEVENT
END:VCALENDAR