BEGIN:VCALENDAR
VERSION:2.0
PRODID:-//Rep Friendly - ECPv6.15.20//NONSGML v1.0//EN
CALSCALE:GREGORIAN
METHOD:PUBLISH
X-ORIGINAL-URL:https://repfriendly.com
X-WR-CALDESC:Events for Rep Friendly
REFRESH-INTERVAL;VALUE=DURATION:PT1H
X-Robots-Tag:noindex
X-PUBLISHED-TTL:PT1H
BEGIN:VTIMEZONE
TZID:UTC
BEGIN:STANDARD
TZOFFSETFROM:+0000
TZOFFSETTO:+0000
TZNAME:UTC
DTSTART:20220101T000000
END:STANDARD
END:VTIMEZONE
BEGIN:VEVENT
DTSTART;VALUE=DATE:20230907
DTEND;VALUE=DATE:20230910
DTSTAMP:20260419T191635
CREATED:20230316T142242Z
LAST-MODIFIED:20230425T141029Z
UID:10000044-1694044800-1694303999@repfriendly.com
SUMMARY:Surf Expo - Orlando\, FL
DESCRIPTION:
URL:https://repfriendly.com/event/surf-expo/
CATEGORIES:Apparel Show,Gift Show,Souvenir Show,Trade Show
END:VEVENT
BEGIN:VEVENT
DTSTART;VALUE=DATE:20230910
DTEND;VALUE=DATE:20230913
DTSTAMP:20260419T191635
CREATED:20230329T135455Z
LAST-MODIFIED:20230425T141115Z
UID:10000083-1694304000-1694563199@repfriendly.com
SUMMARY:Philadelphia National Candy\, Gift & Gourmet Show - Atlantic City\, NJ
DESCRIPTION:
URL:https://repfriendly.com/event/philadelphia-national-candy-gift-goumet-show-2/
CATEGORIES:Gift Show,Toy Show,Trade Show
END:VEVENT
BEGIN:VEVENT
DTSTART;VALUE=DATE:20230919
DTEND;VALUE=DATE:20230922
DTSTAMP:20260419T191635
CREATED:20230316T143624Z
LAST-MODIFIED:20230425T135525Z
UID:10000046-1695081600-1695340799@repfriendly.com
SUMMARY:Dallas Total Home & Gift Market - Dallas\, TX
DESCRIPTION:
URL:https://repfriendly.com/event/dallas-total-home-gift-market-2/
CATEGORIES:Gift Show,Home Show,Trade Show
END:VEVENT
BEGIN:VEVENT
DTSTART;VALUE=DATE:20230919
DTEND;VALUE=DATE:20230922
DTSTAMP:20260419T191635
CREATED:20230329T135219Z
LAST-MODIFIED:20230425T140430Z
UID:10000082-1695081600-1695340799@repfriendly.com
SUMMARY:Coterie / Magic New York - New York\, NY
DESCRIPTION:
URL:https://repfriendly.com/event/coterie-magic-new-york/
CATEGORIES:Apparel Show,Trade Show
END:VEVENT
BEGIN:VEVENT
DTSTART;VALUE=DATE:20230919
DTEND;VALUE=DATE:20230923
DTSTAMP:20260419T191635
CREATED:20230316T143832Z
LAST-MODIFIED:20230425T141210Z
UID:10000047-1695081600-1695427199@repfriendly.com
SUMMARY:The Gathering - Orlando\, FL
DESCRIPTION:
URL:https://repfriendly.com/event/the-gathering/
CATEGORIES:Souvenir Show,Trade Show
END:VEVENT
BEGIN:VEVENT
DTSTART;VALUE=DATE:20230922
DTEND;VALUE=DATE:20230924
DTSTAMP:20260419T191635
CREATED:20230623T171605Z
LAST-MODIFIED:20230623T171710Z
UID:10000135-1695340800-1695513599@repfriendly.com
SUMMARY:DSD General Merchandise Trade Show – Chicago\, IL
DESCRIPTION:
URL:https://repfriendly.com/event/dsd-general-merchandise-trade-show-chicago-il/
CATEGORIES:Convention,Souvenir Show,Trade Show
END:VEVENT
BEGIN:VEVENT
DTSTART;VALUE=DATE:20230927
DTEND;VALUE=DATE:20230930
DTSTAMP:20260419T191635
CREATED:20230316T144149Z
LAST-MODIFIED:20230425T141240Z
UID:10000048-1695772800-1696031999@repfriendly.com
SUMMARY:GHTA Conference - San Antonio\, TX
DESCRIPTION:
URL:https://repfriendly.com/event/ghta-conference/
CATEGORIES:Convention,Gift Show,Home Show,Trade Show
END:VEVENT
BEGIN:VEVENT
DTSTART;VALUE=DATE:20230927
DTEND;VALUE=DATE:20230929
DTSTAMP:20260419T191635
CREATED:20230628T181056Z
LAST-MODIFIED:20230628T181056Z
UID:10000137-1695772800-1695945599@repfriendly.com
SUMMARY:Champs Trade Show – Denver\, CO
DESCRIPTION:
URL:https://repfriendly.com/event/champs-trade-show-denver-co/
CATEGORIES:Convention,Forum,Trade Show
END:VEVENT
BEGIN:VEVENT
DTSTART;VALUE=DATE:20230929
DTEND;VALUE=DATE:20230930
DTSTAMP:20260419T191635
CREATED:20230329T134015Z
LAST-MODIFIED:20230425T140453Z
UID:10000081-1695945600-1696031999@repfriendly.com
SUMMARY:The Toy Foundation's TOTY Awards - New York\, NY
DESCRIPTION:
URL:https://repfriendly.com/event/the-toy-foundstions-toty-awards/
CATEGORIES:Convention,Toy Show,Trade Show
END:VEVENT
BEGIN:VEVENT
DTSTART;VALUE=DATE:20230930
DTEND;VALUE=DATE:20231004
DTSTAMP:20260419T191635
CREATED:20230316T145002Z
LAST-MODIFIED:20230425T140517Z
UID:10000049-1696032000-1696377599@repfriendly.com
SUMMARY:Toyfair - New York\, NY
DESCRIPTION:
URL:https://repfriendly.com/event/toyfair/
CATEGORIES:Toy Show,Trade Show
END:VEVENT
END:VCALENDAR