BEGIN:VCALENDAR
VERSION:2.0
PRODID:-//Rep Friendly - ECPv6.15.20//NONSGML v1.0//EN
CALSCALE:GREGORIAN
METHOD:PUBLISH
X-ORIGINAL-URL:https://repfriendly.com
X-WR-CALDESC:Events for Rep Friendly
REFRESH-INTERVAL;VALUE=DURATION:PT1H
X-Robots-Tag:noindex
X-PUBLISHED-TTL:PT1H
BEGIN:VTIMEZONE
TZID:UTC
BEGIN:STANDARD
TZOFFSETFROM:+0000
TZOFFSETTO:+0000
TZNAME:UTC
DTSTART:20220101T000000
END:STANDARD
END:VTIMEZONE
BEGIN:VEVENT
DTSTART;VALUE=DATE:20230730
DTEND;VALUE=DATE:20230804
DTSTAMP:20260422T015052
CREATED:20230316T105216Z
LAST-MODIFIED:20230425T140330Z
UID:10000076-1690675200-1691107199@repfriendly.com
SUMMARY:Las Vegas Gift & Home - Las Vegas\, NV
DESCRIPTION:
URL:https://repfriendly.com/event/las-vegas-gift-home/
CATEGORIES:Gift Show,Home Show,Trade Show
END:VEVENT
BEGIN:VEVENT
DTSTART;VALUE=DATE:20230804
DTEND;VALUE=DATE:20230806
DTSTAMP:20260422T015052
CREATED:20230620T154406Z
LAST-MODIFIED:20230620T154442Z
UID:10000108-1691107200-1691279999@repfriendly.com
SUMMARY:Mercantile Mississippi - Jackson\, MS
DESCRIPTION:
URL:https://repfriendly.com/event/mercantile-mississippi-jackson-ms/
CATEGORIES:Gift Show,Home Show,Souvenir Show
END:VEVENT
BEGIN:VEVENT
DTSTART;VALUE=DATE:20230805
DTEND;VALUE=DATE:20230808
DTSTAMP:20260422T015052
CREATED:20230316T131455Z
LAST-MODIFIED:20230424T164655Z
UID:10000035-1691193600-1691452799@repfriendly.com
SUMMARY:Biloxi Mississippi Wholesale Gift Show - Biloxi\, MS
DESCRIPTION:
URL:https://repfriendly.com/event/biloxi-mississippi-wholesale-gift-show/
CATEGORIES:Gift Show,Home Show,Souvenir Show,Trade Show
END:VEVENT
BEGIN:VEVENT
DTSTART;VALUE=DATE:20230805
DTEND;VALUE=DATE:20230809
DTSTAMP:20260422T015052
CREATED:20230620T160200Z
LAST-MODIFIED:20230620T160221Z
UID:10000110-1691193600-1691539199@repfriendly.com
SUMMARY:OFFPRICE Show - Las Vegas\, NV
DESCRIPTION:
URL:https://repfriendly.com/event/offprice-show-las-vegas-nv/
CATEGORIES:Apparel Show,Gift Show,Home Show,Souvenir Show,Toy Show
END:VEVENT
BEGIN:VEVENT
DTSTART;VALUE=DATE:20230813
DTEND;VALUE=DATE:20230817
DTSTAMP:20260422T015052
CREATED:20230316T134810Z
LAST-MODIFIED:20230425T140532Z
UID:10000037-1691884800-1692230399@repfriendly.com
SUMMARY:NY Now - New York\, NY
DESCRIPTION:
URL:https://repfriendly.com/event/ny-now/
CATEGORIES:Forum,Gift Show,Home Show,Toy Show,Trade Show
END:VEVENT
BEGIN:VEVENT
DTSTART;VALUE=DATE:20230813
DTEND;VALUE=DATE:20230817
DTSTAMP:20260422T015052
CREATED:20230316T135420Z
LAST-MODIFIED:20230425T140603Z
UID:10000038-1691884800-1692230399@repfriendly.com
SUMMARY:Toronto Gift & Home Market - Toronto\, CAN
DESCRIPTION:
URL:https://repfriendly.com/event/toronto-gift-home-market/
CATEGORIES:Gift Show,Home Show,Souvenir Show,Trade Show
END:VEVENT
BEGIN:VEVENT
DTSTART;VALUE=DATE:20230814
DTEND;VALUE=DATE:20230817
DTSTAMP:20260422T015052
CREATED:20230316T140304Z
LAST-MODIFIED:20230425T140645Z
UID:10000039-1691971200-1692230399@repfriendly.com
SUMMARY:Rocky Mountain Apparel Gift and Resort Show - Denver\, CO
DESCRIPTION:
URL:https://repfriendly.com/event/rocky-mountain-apparel-gift-and-resort-show/
CATEGORIES:Gift Show,Home Show,Souvenir Show,Trade Show
END:VEVENT
END:VCALENDAR