BEGIN:VCALENDAR
VERSION:2.0
PRODID:-//Rep Friendly - ECPv6.15.20//NONSGML v1.0//EN
CALSCALE:GREGORIAN
METHOD:PUBLISH
X-WR-CALNAME:Rep Friendly
X-ORIGINAL-URL:https://repfriendly.com
X-WR-CALDESC:Events for Rep Friendly
REFRESH-INTERVAL;VALUE=DURATION:PT1H
X-Robots-Tag:noindex
X-PUBLISHED-TTL:PT1H
BEGIN:VTIMEZONE
TZID:UTC
BEGIN:STANDARD
TZOFFSETFROM:+0000
TZOFFSETTO:+0000
TZNAME:UTC
DTSTART:20220101T000000
END:STANDARD
END:VTIMEZONE
BEGIN:VEVENT
DTSTART;VALUE=DATE:20230801
DTEND;VALUE=DATE:20230806
DTSTAMP:20260422T065145
CREATED:20230424T221218Z
LAST-MODIFIED:20230425T134354Z
UID:10000034-1690848000-1691279999@repfriendly.com
SUMMARY:Atlanta Apparel Market – Atlanta\, GA
DESCRIPTION:
URL:https://repfriendly.com/event/atlanta-apparel-market-2-2/
CATEGORIES:Apparel Show,Trade Show
END:VEVENT
BEGIN:VEVENT
DTSTART;VALUE=DATE:20230805
DTEND;VALUE=DATE:20230809
DTSTAMP:20260422T065145
CREATED:20230620T160200Z
LAST-MODIFIED:20230620T160221Z
UID:10000110-1691193600-1691539199@repfriendly.com
SUMMARY:OFFPRICE Show - Las Vegas\, NV
DESCRIPTION:
URL:https://repfriendly.com/event/offprice-show-las-vegas-nv/
CATEGORIES:Apparel Show,Gift Show,Home Show,Souvenir Show,Toy Show
END:VEVENT
BEGIN:VEVENT
DTSTART;VALUE=DATE:20230806
DTEND;VALUE=DATE:20230810
DTSTAMP:20260422T065145
CREATED:20230316T132314Z
LAST-MODIFIED:20230425T140313Z
UID:10000036-1691280000-1691625599@repfriendly.com
SUMMARY:Las Vegas Apparel Market - Las Vegas\, NV
DESCRIPTION:
URL:https://repfriendly.com/event/las-vegas-apparel-market/
CATEGORIES:Apparel Show,Trade Show
END:VEVENT
BEGIN:VEVENT
DTSTART;VALUE=DATE:20230814
DTEND;VALUE=DATE:20230817
DTSTAMP:20260422T065145
CREATED:20230329T140938Z
LAST-MODIFIED:20230425T135809Z
UID:10000085-1691971200-1692230399@repfriendly.com
SUMMARY:Miami Souvenir & Resort Show - Miami\, FL
DESCRIPTION:
URL:https://repfriendly.com/event/miami-souveinr-resort-show-a/
CATEGORIES:Apparel Show,Gift Show,Souvenir Show,Trade Show
END:VEVENT
BEGIN:VEVENT
DTSTART;VALUE=DATE:20230822
DTEND;VALUE=DATE:20230826
DTSTAMP:20260422T065145
CREATED:20230316T141751Z
LAST-MODIFIED:20230425T135559Z
UID:10000042-1692662400-1693007999@repfriendly.com
SUMMARY:Dallas Apparel & Accessories Market - Dallas\, TX
DESCRIPTION:
URL:https://repfriendly.com/event/dallas-apparel-accessories-market-3/
CATEGORIES:Apparel Show,Trade Show
END:VEVENT
BEGIN:VEVENT
DTSTART;VALUE=DATE:20230827
DTEND;VALUE=DATE:20230830
DTSTAMP:20260422T065145
CREATED:20230620T161335Z
LAST-MODIFIED:20230620T161335Z
UID:10000111-1693094400-1693353599@repfriendly.com
SUMMARY:Trendz Show - Palm Beach\, FL
DESCRIPTION:
URL:https://repfriendly.com/event/trendz-show-palm-beach-fl/
CATEGORIES:Apparel Show
END:VEVENT
END:VCALENDAR